BEGIN:VCALENDAR
VERSION:2.0
PRODID:-//CILL DARA LE GAEILGE - ECPv6.15.16//NONSGML v1.0//EN
CALSCALE:GREGORIAN
METHOD:PUBLISH
X-WR-CALNAME:CILL DARA LE GAEILGE
X-ORIGINAL-URL:https://cilldaralegaeilge.ie
X-WR-CALDESC:Events for CILL DARA LE GAEILGE
REFRESH-INTERVAL;VALUE=DURATION:PT1H
X-Robots-Tag:noindex
X-PUBLISHED-TTL:PT1H
BEGIN:VTIMEZONE
TZID:UTC
BEGIN:STANDARD
TZOFFSETFROM:+0000
TZOFFSETTO:+0000
TZNAME:UTC
DTSTART:20250101T000000
END:STANDARD
END:VTIMEZONE
BEGIN:VEVENT
DTSTART;TZID=UTC:20260422T103000
DTEND;TZID=UTC:20260422T113000
DTSTAMP:20260422T095944
CREATED:20240611T143504Z
LAST-MODIFIED:20250321T171329Z
UID:10001716-1776853800-1776857400@cilldaralegaeilge.ie
SUMMARY:Ciorcal Comhrá le Leabharlann Phobal Bhaile Átha Í
DESCRIPTION:Leabharlann Phobal Bhaile Átha Í \nAthy Community Library \nDé Céadaoin Wednesday 10:30-11.30
URL:https://cilldaralegaeilge.ie/imeachtai/ciorcal-comhra-le-leabharlann-phobal-bhaile-atha-i/2026-04-22/
LOCATION:Leabharlann Phobal Bhaile Átha Í\, Lána an Chlochair\, Baile Átha í\, Co. Chill Dara\, R14 DK33\, Ireland
CATEGORIES:An Pobal Níos Leithne,Daoine a bhfuil suim acu sa Ghaeilge,Foghlaimeoirí — Nua-Ghaeilge,Pobal reatha na teanga
ATTACH;FMTTYPE=image/png:https://cilldaralegaeilge.ie/wp-content/uploads/2024/06/An-Ghaeilge-sa-Phobal.png
END:VEVENT
BEGIN:VEVENT
DTSTART;TZID=UTC:20260423T110000
DTEND;TZID=UTC:20260423T120000
DTSTAMP:20260422T095944
CREATED:20250321T172049Z
LAST-MODIFIED:20250321T172054Z
UID:10004202-1776942000-1776945600@cilldaralegaeilge.ie
SUMMARY:Ciorcal Comhrá le Leabharlann Phobal Léim An Bhradáin
DESCRIPTION:Leabharlann Phobal Léim An Bhradáin \nLeixlip Community Library \nGach dara agus ceathrú Céadaoin 11.00-12.00
URL:https://cilldaralegaeilge.ie/imeachtai/ciorcal-comhra-le-leabharlann-phobal-leim-an-bhradain-2/2026-04-23/
LOCATION:Leabharlann Phobal Léim An Bhradáin\, Cnoc an Chaptaein\, Léim an Bhradáin\, Co. Chill Dara\, W23 WR96\, Ireland
CATEGORIES:An Pobal Níos Leithne,Daoine a bhfuil suim acu sa Ghaeilge,Foghlaimeoirí — Nua-Ghaeilge,Pobal reatha na teanga
ATTACH;FMTTYPE=image/png:https://cilldaralegaeilge.ie/wp-content/uploads/2024/06/An-Ghaeilge-sa-Phobal.png
END:VEVENT
BEGIN:VEVENT
DTSTART;TZID=UTC:20260424T120000
DTEND;TZID=UTC:20260424T130000
DTSTAMP:20260422T095944
CREATED:20240611T144102Z
LAST-MODIFIED:20250321T171639Z
UID:10001956-1777032000-1777035600@cilldaralegaeilge.ie
SUMMARY:Ciorcal Comhrá le Leabharlann Phobal Chill Droichid
DESCRIPTION:Leabharlann Phobal Chill Droichid \nCelbridge Community Library \n“Caint agus Cupán” Dé hAoine Friday: 12:00-13:00
URL:https://cilldaralegaeilge.ie/imeachtai/ciorcal-comhra-le-leabharlann-phobal-chill-droichid/2026-04-24/
LOCATION:Leabharlann Phobal Chill Droichid\, Páirc Phádraig\, Cill Droichid\, Co. Chill Dara\, W23 VA47\, Ireland
CATEGORIES:An Pobal Níos Leithne,Daoine a bhfuil suim acu sa Ghaeilge,Foghlaimeoirí — Nua-Ghaeilge,Pobal reatha na teanga
ATTACH;FMTTYPE=image/png:https://cilldaralegaeilge.ie/wp-content/uploads/2024/06/An-Ghaeilge-sa-Phobal.png
END:VEVENT
BEGIN:VEVENT
DTSTART;TZID=UTC:20260427T110000
DTEND;TZID=UTC:20260427T120000
DTSTAMP:20260422T095944
CREATED:20240611T143206Z
LAST-MODIFIED:20240815T094125Z
UID:10001596-1777287600-1777291200@cilldaralegaeilge.ie
SUMMARY:Ciorcal Comhrá le Leabharlann agus Ionad Cultúrtha An Náis
DESCRIPTION:Leabharlann agus Ionad Cultúrtha An Náis \nNaas Library and Cultural Centre \nDé Luain Monday: 11:00-12:00
URL:https://cilldaralegaeilge.ie/imeachtai/ciorcal-comhra-le-leabharlann-agus-ionad-culturtha-an-nais/2026-04-27/
LOCATION:Leabharlann agus Ionad Cultúrtha An Náis\, An Phríomhshráid Thuaidh\, Nás na Ríogh\, Co. Chill Dara\, W91 E1RT\, Ireland
ATTACH;FMTTYPE=image/png:https://cilldaralegaeilge.ie/wp-content/uploads/2024/06/An-Ghaeilge-sa-Phobal.png
END:VEVENT
BEGIN:VEVENT
DTSTART;TZID=UTC:20260428T100000
DTEND;TZID=UTC:20260428T110000
DTSTAMP:20260422T095944
CREATED:20240918T112200Z
LAST-MODIFIED:20250321T172342Z
UID:10004671-1777370400-1777374000@cilldaralegaeilge.ie
SUMMARY:Ciorcal Comhrá i Leabharlann Phobal Ráth Iomgháin
DESCRIPTION:
URL:https://cilldaralegaeilge.ie/imeachtai/ciorcal-comhra-i-leabharlann-phobal-rath-iomghain/2026-04-28/
LOCATION:Leabharlann Phobal Ráth Iomgháin\, Canal Court\, Bóthar Chill Dara\, Ráth Iomgháin\, Co. Chill Dara\, R51 YX65\, Ireland
CATEGORIES:An Pobal Níos Leithne,Daoine a bhfuil suim acu sa Ghaeilge,Foghlaimeoirí — Nua-Ghaeilge,Pobal reatha na teanga
ATTACH;FMTTYPE=image/png:https://cilldaralegaeilge.ie/wp-content/uploads/2024/06/An-Ghaeilge-sa-Phobal.png
END:VEVENT
BEGIN:VEVENT
DTSTART;TZID=UTC:20260428T110000
DTEND;TZID=UTC:20260428T120000
DTSTAMP:20260422T095944
CREATED:20240611T145026Z
LAST-MODIFIED:20250321T172212Z
UID:10002224-1777374000-1777377600@cilldaralegaeilge.ie
SUMMARY:Ciorcal Comhrá le Leabharlann Phobal Mhaigh Nuad
DESCRIPTION:Leabharlann Phobal Mhaigh Nuad \nMaynooth Community Library \nDé Máirt Tuesday: 11:00-12:00
URL:https://cilldaralegaeilge.ie/imeachtai/ciorcal-comhra-le-leabharlann-phobal-mhaigh-nuad/2026-04-28/
LOCATION:Leabharlann Phobal Mhaigh Nuad\, An tSráid Mhór\, Maigh Nuad\, Co. Chill Dara\, W23 ND79\, Ireland
CATEGORIES:An Pobal Níos Leithne,Daoine a bhfuil suim acu sa Ghaeilge,Foghlaimeoirí — Nua-Ghaeilge,Pobal reatha na teanga
ATTACH;FMTTYPE=image/png:https://cilldaralegaeilge.ie/wp-content/uploads/2024/06/An-Ghaeilge-sa-Phobal.png
END:VEVENT
BEGIN:VEVENT
DTSTART;TZID=UTC:20260429T103000
DTEND;TZID=UTC:20260429T113000
DTSTAMP:20260422T095944
CREATED:20240611T143504Z
LAST-MODIFIED:20250321T171329Z
UID:10001717-1777458600-1777462200@cilldaralegaeilge.ie
SUMMARY:Ciorcal Comhrá le Leabharlann Phobal Bhaile Átha Í
DESCRIPTION:Leabharlann Phobal Bhaile Átha Í \nAthy Community Library \nDé Céadaoin Wednesday 10:30-11.30
URL:https://cilldaralegaeilge.ie/imeachtai/ciorcal-comhra-le-leabharlann-phobal-bhaile-atha-i/2026-04-29/
LOCATION:Leabharlann Phobal Bhaile Átha Í\, Lána an Chlochair\, Baile Átha í\, Co. Chill Dara\, R14 DK33\, Ireland
CATEGORIES:An Pobal Níos Leithne,Daoine a bhfuil suim acu sa Ghaeilge,Foghlaimeoirí — Nua-Ghaeilge,Pobal reatha na teanga
ATTACH;FMTTYPE=image/png:https://cilldaralegaeilge.ie/wp-content/uploads/2024/06/An-Ghaeilge-sa-Phobal.png
END:VEVENT
BEGIN:VEVENT
DTSTART;TZID=UTC:20260430T110000
DTEND;TZID=UTC:20260430T120000
DTSTAMP:20260422T095944
CREATED:20250321T172049Z
LAST-MODIFIED:20250321T172054Z
UID:10004203-1777546800-1777550400@cilldaralegaeilge.ie
SUMMARY:Ciorcal Comhrá le Leabharlann Phobal Léim An Bhradáin
DESCRIPTION:Leabharlann Phobal Léim An Bhradáin \nLeixlip Community Library \nGach dara agus ceathrú Céadaoin 11.00-12.00
URL:https://cilldaralegaeilge.ie/imeachtai/ciorcal-comhra-le-leabharlann-phobal-leim-an-bhradain-2/2026-04-30/
LOCATION:Leabharlann Phobal Léim An Bhradáin\, Cnoc an Chaptaein\, Léim an Bhradáin\, Co. Chill Dara\, W23 WR96\, Ireland
CATEGORIES:An Pobal Níos Leithne,Daoine a bhfuil suim acu sa Ghaeilge,Foghlaimeoirí — Nua-Ghaeilge,Pobal reatha na teanga
ATTACH;FMTTYPE=image/png:https://cilldaralegaeilge.ie/wp-content/uploads/2024/06/An-Ghaeilge-sa-Phobal.png
END:VEVENT
BEGIN:VEVENT
DTSTART;TZID=UTC:20260430T150000
DTEND;TZID=UTC:20260430T163000
DTSTAMP:20260422T095944
CREATED:20240611T143841Z
LAST-MODIFIED:20250321T171530Z
UID:10001837-1777561200-1777566600@cilldaralegaeilge.ie
SUMMARY:Ciorcal Comhrá le Leabharlann Phobal Chill Dara
DESCRIPTION:Leabharlann Phobal Chill Dara \nKildare Town Community Library \nDéardaoin Thursday: 15:00-16:00
URL:https://cilldaralegaeilge.ie/imeachtai/ciorcal-comhra-le-leabharlann-phobal-chill-dara/2026-04-30/
LOCATION:Leabharlann Phobal Chill Dara\, Baile Chill Dara\, Sráid Gheata An Chléir\, Co. Chill Dara\, R51 P403\, Ireland
CATEGORIES:An Pobal Níos Leithne,Daoine a bhfuil suim acu sa Ghaeilge,Foghlaimeoirí — Nua-Ghaeilge,Pobal reatha na teanga
ATTACH;FMTTYPE=image/png:https://cilldaralegaeilge.ie/wp-content/uploads/2024/06/An-Ghaeilge-sa-Phobal.png
END:VEVENT
BEGIN:VEVENT
DTSTART;TZID=UTC:20260501T100000
DTEND;TZID=UTC:20260501T110000
DTSTAMP:20260422T095944
CREATED:20240611T144426Z
LAST-MODIFIED:20250321T171839Z
UID:10002077-1777629600-1777633200@cilldaralegaeilge.ie
SUMMARY:Ciorcal Comhrá le Leabharlann Phobal Dhroichead Nua
DESCRIPTION:Leabharlann Phobal Dhroichead Nua \nNewbridge Community Library \nDé hAoine Friday: 10:00-11:00
URL:https://cilldaralegaeilge.ie/imeachtai/ciorcal-comhra-le-leabharlann-phobal-dhroichead-nua/2026-05-01/
LOCATION:Leabharlann Phobal Dhroichead Nua\, Bóthar Áth Garbháin\, Droichead Nua\, Co. Chill Dara\, W12 W861\, Ireland
CATEGORIES:An Pobal Níos Leithne,Daoine a bhfuil suim acu sa Ghaeilge,Foghlaimeoirí — Nua-Ghaeilge,Pobal reatha na teanga
ATTACH;FMTTYPE=image/png:https://cilldaralegaeilge.ie/wp-content/uploads/2024/06/An-Ghaeilge-sa-Phobal.png
END:VEVENT
BEGIN:VEVENT
DTSTART;TZID=UTC:20260501T120000
DTEND;TZID=UTC:20260501T130000
DTSTAMP:20260422T095944
CREATED:20240611T144102Z
LAST-MODIFIED:20250321T171639Z
UID:10001957-1777636800-1777640400@cilldaralegaeilge.ie
SUMMARY:Ciorcal Comhrá le Leabharlann Phobal Chill Droichid
DESCRIPTION:Leabharlann Phobal Chill Droichid \nCelbridge Community Library \n“Caint agus Cupán” Dé hAoine Friday: 12:00-13:00
URL:https://cilldaralegaeilge.ie/imeachtai/ciorcal-comhra-le-leabharlann-phobal-chill-droichid/2026-05-01/
LOCATION:Leabharlann Phobal Chill Droichid\, Páirc Phádraig\, Cill Droichid\, Co. Chill Dara\, W23 VA47\, Ireland
CATEGORIES:An Pobal Níos Leithne,Daoine a bhfuil suim acu sa Ghaeilge,Foghlaimeoirí — Nua-Ghaeilge,Pobal reatha na teanga
ATTACH;FMTTYPE=image/png:https://cilldaralegaeilge.ie/wp-content/uploads/2024/06/An-Ghaeilge-sa-Phobal.png
END:VEVENT
BEGIN:VEVENT
DTSTART;TZID=UTC:20260504T110000
DTEND;TZID=UTC:20260504T120000
DTSTAMP:20260422T095944
CREATED:20240611T143206Z
LAST-MODIFIED:20240815T094125Z
UID:10001597-1777892400-1777896000@cilldaralegaeilge.ie
SUMMARY:Ciorcal Comhrá le Leabharlann agus Ionad Cultúrtha An Náis
DESCRIPTION:Leabharlann agus Ionad Cultúrtha An Náis \nNaas Library and Cultural Centre \nDé Luain Monday: 11:00-12:00
URL:https://cilldaralegaeilge.ie/imeachtai/ciorcal-comhra-le-leabharlann-agus-ionad-culturtha-an-nais/2026-05-04/
LOCATION:Leabharlann agus Ionad Cultúrtha An Náis\, An Phríomhshráid Thuaidh\, Nás na Ríogh\, Co. Chill Dara\, W91 E1RT\, Ireland
ATTACH;FMTTYPE=image/png:https://cilldaralegaeilge.ie/wp-content/uploads/2024/06/An-Ghaeilge-sa-Phobal.png
END:VEVENT
BEGIN:VEVENT
DTSTART;TZID=UTC:20260505T100000
DTEND;TZID=UTC:20260505T110000
DTSTAMP:20260422T095944
CREATED:20240918T112200Z
LAST-MODIFIED:20250321T172342Z
UID:10004672-1777975200-1777978800@cilldaralegaeilge.ie
SUMMARY:Ciorcal Comhrá i Leabharlann Phobal Ráth Iomgháin
DESCRIPTION:
URL:https://cilldaralegaeilge.ie/imeachtai/ciorcal-comhra-i-leabharlann-phobal-rath-iomghain/2026-05-05/
LOCATION:Leabharlann Phobal Ráth Iomgháin\, Canal Court\, Bóthar Chill Dara\, Ráth Iomgháin\, Co. Chill Dara\, R51 YX65\, Ireland
CATEGORIES:An Pobal Níos Leithne,Daoine a bhfuil suim acu sa Ghaeilge,Foghlaimeoirí — Nua-Ghaeilge,Pobal reatha na teanga
ATTACH;FMTTYPE=image/png:https://cilldaralegaeilge.ie/wp-content/uploads/2024/06/An-Ghaeilge-sa-Phobal.png
END:VEVENT
BEGIN:VEVENT
DTSTART;TZID=UTC:20260505T110000
DTEND;TZID=UTC:20260505T120000
DTSTAMP:20260422T095944
CREATED:20240611T145026Z
LAST-MODIFIED:20250321T172212Z
UID:10002225-1777978800-1777982400@cilldaralegaeilge.ie
SUMMARY:Ciorcal Comhrá le Leabharlann Phobal Mhaigh Nuad
DESCRIPTION:Leabharlann Phobal Mhaigh Nuad \nMaynooth Community Library \nDé Máirt Tuesday: 11:00-12:00
URL:https://cilldaralegaeilge.ie/imeachtai/ciorcal-comhra-le-leabharlann-phobal-mhaigh-nuad/2026-05-05/
LOCATION:Leabharlann Phobal Mhaigh Nuad\, An tSráid Mhór\, Maigh Nuad\, Co. Chill Dara\, W23 ND79\, Ireland
CATEGORIES:An Pobal Níos Leithne,Daoine a bhfuil suim acu sa Ghaeilge,Foghlaimeoirí — Nua-Ghaeilge,Pobal reatha na teanga
ATTACH;FMTTYPE=image/png:https://cilldaralegaeilge.ie/wp-content/uploads/2024/06/An-Ghaeilge-sa-Phobal.png
END:VEVENT
BEGIN:VEVENT
DTSTART;TZID=UTC:20260506T103000
DTEND;TZID=UTC:20260506T113000
DTSTAMP:20260422T095944
CREATED:20240611T143504Z
LAST-MODIFIED:20250321T171329Z
UID:10001718-1778063400-1778067000@cilldaralegaeilge.ie
SUMMARY:Ciorcal Comhrá le Leabharlann Phobal Bhaile Átha Í
DESCRIPTION:Leabharlann Phobal Bhaile Átha Í \nAthy Community Library \nDé Céadaoin Wednesday 10:30-11.30
URL:https://cilldaralegaeilge.ie/imeachtai/ciorcal-comhra-le-leabharlann-phobal-bhaile-atha-i/2026-05-06/
LOCATION:Leabharlann Phobal Bhaile Átha Í\, Lána an Chlochair\, Baile Átha í\, Co. Chill Dara\, R14 DK33\, Ireland
CATEGORIES:An Pobal Níos Leithne,Daoine a bhfuil suim acu sa Ghaeilge,Foghlaimeoirí — Nua-Ghaeilge,Pobal reatha na teanga
ATTACH;FMTTYPE=image/png:https://cilldaralegaeilge.ie/wp-content/uploads/2024/06/An-Ghaeilge-sa-Phobal.png
END:VEVENT
BEGIN:VEVENT
DTSTART;TZID=UTC:20260507T110000
DTEND;TZID=UTC:20260507T120000
DTSTAMP:20260422T095944
CREATED:20250321T172049Z
LAST-MODIFIED:20250321T172054Z
UID:10004204-1778151600-1778155200@cilldaralegaeilge.ie
SUMMARY:Ciorcal Comhrá le Leabharlann Phobal Léim An Bhradáin
DESCRIPTION:Leabharlann Phobal Léim An Bhradáin \nLeixlip Community Library \nGach dara agus ceathrú Céadaoin 11.00-12.00
URL:https://cilldaralegaeilge.ie/imeachtai/ciorcal-comhra-le-leabharlann-phobal-leim-an-bhradain-2/2026-05-07/
LOCATION:Leabharlann Phobal Léim An Bhradáin\, Cnoc an Chaptaein\, Léim an Bhradáin\, Co. Chill Dara\, W23 WR96\, Ireland
CATEGORIES:An Pobal Níos Leithne,Daoine a bhfuil suim acu sa Ghaeilge,Foghlaimeoirí — Nua-Ghaeilge,Pobal reatha na teanga
ATTACH;FMTTYPE=image/png:https://cilldaralegaeilge.ie/wp-content/uploads/2024/06/An-Ghaeilge-sa-Phobal.png
END:VEVENT
BEGIN:VEVENT
DTSTART;TZID=UTC:20260508T120000
DTEND;TZID=UTC:20260508T130000
DTSTAMP:20260422T095944
CREATED:20240611T144102Z
LAST-MODIFIED:20250321T171639Z
UID:10001958-1778241600-1778245200@cilldaralegaeilge.ie
SUMMARY:Ciorcal Comhrá le Leabharlann Phobal Chill Droichid
DESCRIPTION:Leabharlann Phobal Chill Droichid \nCelbridge Community Library \n“Caint agus Cupán” Dé hAoine Friday: 12:00-13:00
URL:https://cilldaralegaeilge.ie/imeachtai/ciorcal-comhra-le-leabharlann-phobal-chill-droichid/2026-05-08/
LOCATION:Leabharlann Phobal Chill Droichid\, Páirc Phádraig\, Cill Droichid\, Co. Chill Dara\, W23 VA47\, Ireland
CATEGORIES:An Pobal Níos Leithne,Daoine a bhfuil suim acu sa Ghaeilge,Foghlaimeoirí — Nua-Ghaeilge,Pobal reatha na teanga
ATTACH;FMTTYPE=image/png:https://cilldaralegaeilge.ie/wp-content/uploads/2024/06/An-Ghaeilge-sa-Phobal.png
END:VEVENT
BEGIN:VEVENT
DTSTART;TZID=UTC:20260511T110000
DTEND;TZID=UTC:20260511T120000
DTSTAMP:20260422T095944
CREATED:20240611T143206Z
LAST-MODIFIED:20240815T094125Z
UID:10001598-1778497200-1778500800@cilldaralegaeilge.ie
SUMMARY:Ciorcal Comhrá le Leabharlann agus Ionad Cultúrtha An Náis
DESCRIPTION:Leabharlann agus Ionad Cultúrtha An Náis \nNaas Library and Cultural Centre \nDé Luain Monday: 11:00-12:00
URL:https://cilldaralegaeilge.ie/imeachtai/ciorcal-comhra-le-leabharlann-agus-ionad-culturtha-an-nais/2026-05-11/
LOCATION:Leabharlann agus Ionad Cultúrtha An Náis\, An Phríomhshráid Thuaidh\, Nás na Ríogh\, Co. Chill Dara\, W91 E1RT\, Ireland
ATTACH;FMTTYPE=image/png:https://cilldaralegaeilge.ie/wp-content/uploads/2024/06/An-Ghaeilge-sa-Phobal.png
END:VEVENT
BEGIN:VEVENT
DTSTART;TZID=UTC:20260512T100000
DTEND;TZID=UTC:20260512T110000
DTSTAMP:20260422T095944
CREATED:20240918T112200Z
LAST-MODIFIED:20250321T172342Z
UID:10004673-1778580000-1778583600@cilldaralegaeilge.ie
SUMMARY:Ciorcal Comhrá i Leabharlann Phobal Ráth Iomgháin
DESCRIPTION:
URL:https://cilldaralegaeilge.ie/imeachtai/ciorcal-comhra-i-leabharlann-phobal-rath-iomghain/2026-05-12/
LOCATION:Leabharlann Phobal Ráth Iomgháin\, Canal Court\, Bóthar Chill Dara\, Ráth Iomgháin\, Co. Chill Dara\, R51 YX65\, Ireland
CATEGORIES:An Pobal Níos Leithne,Daoine a bhfuil suim acu sa Ghaeilge,Foghlaimeoirí — Nua-Ghaeilge,Pobal reatha na teanga
ATTACH;FMTTYPE=image/png:https://cilldaralegaeilge.ie/wp-content/uploads/2024/06/An-Ghaeilge-sa-Phobal.png
END:VEVENT
BEGIN:VEVENT
DTSTART;TZID=UTC:20260512T110000
DTEND;TZID=UTC:20260512T120000
DTSTAMP:20260422T095944
CREATED:20240611T145026Z
LAST-MODIFIED:20250321T172212Z
UID:10002226-1778583600-1778587200@cilldaralegaeilge.ie
SUMMARY:Ciorcal Comhrá le Leabharlann Phobal Mhaigh Nuad
DESCRIPTION:Leabharlann Phobal Mhaigh Nuad \nMaynooth Community Library \nDé Máirt Tuesday: 11:00-12:00
URL:https://cilldaralegaeilge.ie/imeachtai/ciorcal-comhra-le-leabharlann-phobal-mhaigh-nuad/2026-05-12/
LOCATION:Leabharlann Phobal Mhaigh Nuad\, An tSráid Mhór\, Maigh Nuad\, Co. Chill Dara\, W23 ND79\, Ireland
CATEGORIES:An Pobal Níos Leithne,Daoine a bhfuil suim acu sa Ghaeilge,Foghlaimeoirí — Nua-Ghaeilge,Pobal reatha na teanga
ATTACH;FMTTYPE=image/png:https://cilldaralegaeilge.ie/wp-content/uploads/2024/06/An-Ghaeilge-sa-Phobal.png
END:VEVENT
BEGIN:VEVENT
DTSTART;TZID=UTC:20260513T103000
DTEND;TZID=UTC:20260513T113000
DTSTAMP:20260422T095944
CREATED:20240611T143504Z
LAST-MODIFIED:20250321T171329Z
UID:10001719-1778668200-1778671800@cilldaralegaeilge.ie
SUMMARY:Ciorcal Comhrá le Leabharlann Phobal Bhaile Átha Í
DESCRIPTION:Leabharlann Phobal Bhaile Átha Í \nAthy Community Library \nDé Céadaoin Wednesday 10:30-11.30
URL:https://cilldaralegaeilge.ie/imeachtai/ciorcal-comhra-le-leabharlann-phobal-bhaile-atha-i/2026-05-13/
LOCATION:Leabharlann Phobal Bhaile Átha Í\, Lána an Chlochair\, Baile Átha í\, Co. Chill Dara\, R14 DK33\, Ireland
CATEGORIES:An Pobal Níos Leithne,Daoine a bhfuil suim acu sa Ghaeilge,Foghlaimeoirí — Nua-Ghaeilge,Pobal reatha na teanga
ATTACH;FMTTYPE=image/png:https://cilldaralegaeilge.ie/wp-content/uploads/2024/06/An-Ghaeilge-sa-Phobal.png
END:VEVENT
BEGIN:VEVENT
DTSTART;TZID=UTC:20260514T110000
DTEND;TZID=UTC:20260514T120000
DTSTAMP:20260422T095944
CREATED:20250321T172049Z
LAST-MODIFIED:20250321T172054Z
UID:10004205-1778756400-1778760000@cilldaralegaeilge.ie
SUMMARY:Ciorcal Comhrá le Leabharlann Phobal Léim An Bhradáin
DESCRIPTION:Leabharlann Phobal Léim An Bhradáin \nLeixlip Community Library \nGach dara agus ceathrú Céadaoin 11.00-12.00
URL:https://cilldaralegaeilge.ie/imeachtai/ciorcal-comhra-le-leabharlann-phobal-leim-an-bhradain-2/2026-05-14/
LOCATION:Leabharlann Phobal Léim An Bhradáin\, Cnoc an Chaptaein\, Léim an Bhradáin\, Co. Chill Dara\, W23 WR96\, Ireland
CATEGORIES:An Pobal Níos Leithne,Daoine a bhfuil suim acu sa Ghaeilge,Foghlaimeoirí — Nua-Ghaeilge,Pobal reatha na teanga
ATTACH;FMTTYPE=image/png:https://cilldaralegaeilge.ie/wp-content/uploads/2024/06/An-Ghaeilge-sa-Phobal.png
END:VEVENT
BEGIN:VEVENT
DTSTART;TZID=UTC:20260514T150000
DTEND;TZID=UTC:20260514T163000
DTSTAMP:20260422T095944
CREATED:20240611T143841Z
LAST-MODIFIED:20250321T171530Z
UID:10001839-1778770800-1778776200@cilldaralegaeilge.ie
SUMMARY:Ciorcal Comhrá le Leabharlann Phobal Chill Dara
DESCRIPTION:Leabharlann Phobal Chill Dara \nKildare Town Community Library \nDéardaoin Thursday: 15:00-16:00
URL:https://cilldaralegaeilge.ie/imeachtai/ciorcal-comhra-le-leabharlann-phobal-chill-dara/2026-05-14/
LOCATION:Leabharlann Phobal Chill Dara\, Baile Chill Dara\, Sráid Gheata An Chléir\, Co. Chill Dara\, R51 P403\, Ireland
CATEGORIES:An Pobal Níos Leithne,Daoine a bhfuil suim acu sa Ghaeilge,Foghlaimeoirí — Nua-Ghaeilge,Pobal reatha na teanga
ATTACH;FMTTYPE=image/png:https://cilldaralegaeilge.ie/wp-content/uploads/2024/06/An-Ghaeilge-sa-Phobal.png
END:VEVENT
BEGIN:VEVENT
DTSTART;TZID=UTC:20260515T100000
DTEND;TZID=UTC:20260515T110000
DTSTAMP:20260422T095944
CREATED:20240611T144426Z
LAST-MODIFIED:20250321T171839Z
UID:10002079-1778839200-1778842800@cilldaralegaeilge.ie
SUMMARY:Ciorcal Comhrá le Leabharlann Phobal Dhroichead Nua
DESCRIPTION:Leabharlann Phobal Dhroichead Nua \nNewbridge Community Library \nDé hAoine Friday: 10:00-11:00
URL:https://cilldaralegaeilge.ie/imeachtai/ciorcal-comhra-le-leabharlann-phobal-dhroichead-nua/2026-05-15/
LOCATION:Leabharlann Phobal Dhroichead Nua\, Bóthar Áth Garbháin\, Droichead Nua\, Co. Chill Dara\, W12 W861\, Ireland
CATEGORIES:An Pobal Níos Leithne,Daoine a bhfuil suim acu sa Ghaeilge,Foghlaimeoirí — Nua-Ghaeilge,Pobal reatha na teanga
ATTACH;FMTTYPE=image/png:https://cilldaralegaeilge.ie/wp-content/uploads/2024/06/An-Ghaeilge-sa-Phobal.png
END:VEVENT
BEGIN:VEVENT
DTSTART;TZID=UTC:20260515T120000
DTEND;TZID=UTC:20260515T130000
DTSTAMP:20260422T095944
CREATED:20240611T144102Z
LAST-MODIFIED:20250321T171639Z
UID:10001959-1778846400-1778850000@cilldaralegaeilge.ie
SUMMARY:Ciorcal Comhrá le Leabharlann Phobal Chill Droichid
DESCRIPTION:Leabharlann Phobal Chill Droichid \nCelbridge Community Library \n“Caint agus Cupán” Dé hAoine Friday: 12:00-13:00
URL:https://cilldaralegaeilge.ie/imeachtai/ciorcal-comhra-le-leabharlann-phobal-chill-droichid/2026-05-15/
LOCATION:Leabharlann Phobal Chill Droichid\, Páirc Phádraig\, Cill Droichid\, Co. Chill Dara\, W23 VA47\, Ireland
CATEGORIES:An Pobal Níos Leithne,Daoine a bhfuil suim acu sa Ghaeilge,Foghlaimeoirí — Nua-Ghaeilge,Pobal reatha na teanga
ATTACH;FMTTYPE=image/png:https://cilldaralegaeilge.ie/wp-content/uploads/2024/06/An-Ghaeilge-sa-Phobal.png
END:VEVENT
BEGIN:VEVENT
DTSTART;TZID=UTC:20260518T110000
DTEND;TZID=UTC:20260518T120000
DTSTAMP:20260422T095944
CREATED:20240611T143206Z
LAST-MODIFIED:20240815T094125Z
UID:10001599-1779102000-1779105600@cilldaralegaeilge.ie
SUMMARY:Ciorcal Comhrá le Leabharlann agus Ionad Cultúrtha An Náis
DESCRIPTION:Leabharlann agus Ionad Cultúrtha An Náis \nNaas Library and Cultural Centre \nDé Luain Monday: 11:00-12:00
URL:https://cilldaralegaeilge.ie/imeachtai/ciorcal-comhra-le-leabharlann-agus-ionad-culturtha-an-nais/2026-05-18/
LOCATION:Leabharlann agus Ionad Cultúrtha An Náis\, An Phríomhshráid Thuaidh\, Nás na Ríogh\, Co. Chill Dara\, W91 E1RT\, Ireland
ATTACH;FMTTYPE=image/png:https://cilldaralegaeilge.ie/wp-content/uploads/2024/06/An-Ghaeilge-sa-Phobal.png
END:VEVENT
BEGIN:VEVENT
DTSTART;TZID=UTC:20260519T100000
DTEND;TZID=UTC:20260519T110000
DTSTAMP:20260422T095944
CREATED:20240918T112200Z
LAST-MODIFIED:20250321T172342Z
UID:10004674-1779184800-1779188400@cilldaralegaeilge.ie
SUMMARY:Ciorcal Comhrá i Leabharlann Phobal Ráth Iomgháin
DESCRIPTION:
URL:https://cilldaralegaeilge.ie/imeachtai/ciorcal-comhra-i-leabharlann-phobal-rath-iomghain/2026-05-19/
LOCATION:Leabharlann Phobal Ráth Iomgháin\, Canal Court\, Bóthar Chill Dara\, Ráth Iomgháin\, Co. Chill Dara\, R51 YX65\, Ireland
CATEGORIES:An Pobal Níos Leithne,Daoine a bhfuil suim acu sa Ghaeilge,Foghlaimeoirí — Nua-Ghaeilge,Pobal reatha na teanga
ATTACH;FMTTYPE=image/png:https://cilldaralegaeilge.ie/wp-content/uploads/2024/06/An-Ghaeilge-sa-Phobal.png
END:VEVENT
BEGIN:VEVENT
DTSTART;TZID=UTC:20260519T110000
DTEND;TZID=UTC:20260519T120000
DTSTAMP:20260422T095944
CREATED:20240611T145026Z
LAST-MODIFIED:20250321T172212Z
UID:10002227-1779188400-1779192000@cilldaralegaeilge.ie
SUMMARY:Ciorcal Comhrá le Leabharlann Phobal Mhaigh Nuad
DESCRIPTION:Leabharlann Phobal Mhaigh Nuad \nMaynooth Community Library \nDé Máirt Tuesday: 11:00-12:00
URL:https://cilldaralegaeilge.ie/imeachtai/ciorcal-comhra-le-leabharlann-phobal-mhaigh-nuad/2026-05-19/
LOCATION:Leabharlann Phobal Mhaigh Nuad\, An tSráid Mhór\, Maigh Nuad\, Co. Chill Dara\, W23 ND79\, Ireland
CATEGORIES:An Pobal Níos Leithne,Daoine a bhfuil suim acu sa Ghaeilge,Foghlaimeoirí — Nua-Ghaeilge,Pobal reatha na teanga
ATTACH;FMTTYPE=image/png:https://cilldaralegaeilge.ie/wp-content/uploads/2024/06/An-Ghaeilge-sa-Phobal.png
END:VEVENT
BEGIN:VEVENT
DTSTART;TZID=UTC:20260520T103000
DTEND;TZID=UTC:20260520T113000
DTSTAMP:20260422T095944
CREATED:20240611T143504Z
LAST-MODIFIED:20250321T171329Z
UID:10001720-1779273000-1779276600@cilldaralegaeilge.ie
SUMMARY:Ciorcal Comhrá le Leabharlann Phobal Bhaile Átha Í
DESCRIPTION:Leabharlann Phobal Bhaile Átha Í \nAthy Community Library \nDé Céadaoin Wednesday 10:30-11.30
URL:https://cilldaralegaeilge.ie/imeachtai/ciorcal-comhra-le-leabharlann-phobal-bhaile-atha-i/2026-05-20/
LOCATION:Leabharlann Phobal Bhaile Átha Í\, Lána an Chlochair\, Baile Átha í\, Co. Chill Dara\, R14 DK33\, Ireland
CATEGORIES:An Pobal Níos Leithne,Daoine a bhfuil suim acu sa Ghaeilge,Foghlaimeoirí — Nua-Ghaeilge,Pobal reatha na teanga
ATTACH;FMTTYPE=image/png:https://cilldaralegaeilge.ie/wp-content/uploads/2024/06/An-Ghaeilge-sa-Phobal.png
END:VEVENT
BEGIN:VEVENT
DTSTART;TZID=UTC:20260521T110000
DTEND;TZID=UTC:20260521T120000
DTSTAMP:20260422T095944
CREATED:20250321T172049Z
LAST-MODIFIED:20250321T172054Z
UID:10004206-1779361200-1779364800@cilldaralegaeilge.ie
SUMMARY:Ciorcal Comhrá le Leabharlann Phobal Léim An Bhradáin
DESCRIPTION:Leabharlann Phobal Léim An Bhradáin \nLeixlip Community Library \nGach dara agus ceathrú Céadaoin 11.00-12.00
URL:https://cilldaralegaeilge.ie/imeachtai/ciorcal-comhra-le-leabharlann-phobal-leim-an-bhradain-2/2026-05-21/
LOCATION:Leabharlann Phobal Léim An Bhradáin\, Cnoc an Chaptaein\, Léim an Bhradáin\, Co. Chill Dara\, W23 WR96\, Ireland
CATEGORIES:An Pobal Níos Leithne,Daoine a bhfuil suim acu sa Ghaeilge,Foghlaimeoirí — Nua-Ghaeilge,Pobal reatha na teanga
ATTACH;FMTTYPE=image/png:https://cilldaralegaeilge.ie/wp-content/uploads/2024/06/An-Ghaeilge-sa-Phobal.png
END:VEVENT
END:VCALENDAR