BEGIN:VCALENDAR
VERSION:2.0
PRODID:-//CILL DARA LE GAEILGE - ECPv6.15.16//NONSGML v1.0//EN
CALSCALE:GREGORIAN
METHOD:PUBLISH
X-WR-CALNAME:CILL DARA LE GAEILGE
X-ORIGINAL-URL:https://cilldaralegaeilge.ie
X-WR-CALDESC:Events for CILL DARA LE GAEILGE
REFRESH-INTERVAL;VALUE=DURATION:PT1H
X-Robots-Tag:noindex
X-PUBLISHED-TTL:PT1H
BEGIN:VTIMEZONE
TZID:UTC
BEGIN:STANDARD
TZOFFSETFROM:+0000
TZOFFSETTO:+0000
TZNAME:UTC
DTSTART:20250101T000000
END:STANDARD
END:VTIMEZONE
BEGIN:VEVENT
DTSTART;TZID=UTC:20260421T110000
DTEND;TZID=UTC:20260421T120000
DTSTAMP:20260422T112205
CREATED:20240611T145026Z
LAST-MODIFIED:20250321T172212Z
UID:10002223-1776769200-1776772800@cilldaralegaeilge.ie
SUMMARY:Ciorcal Comhrá le Leabharlann Phobal Mhaigh Nuad
DESCRIPTION:Leabharlann Phobal Mhaigh Nuad \nMaynooth Community Library \nDé Máirt Tuesday: 11:00-12:00
URL:https://cilldaralegaeilge.ie/imeachtai/ciorcal-comhra-le-leabharlann-phobal-mhaigh-nuad/2026-04-21/
LOCATION:Leabharlann Phobal Mhaigh Nuad\, An tSráid Mhór\, Maigh Nuad\, Co. Chill Dara\, W23 ND79\, Ireland
CATEGORIES:An Pobal Níos Leithne,Daoine a bhfuil suim acu sa Ghaeilge,Foghlaimeoirí — Nua-Ghaeilge,Pobal reatha na teanga
ATTACH;FMTTYPE=image/png:https://cilldaralegaeilge.ie/wp-content/uploads/2024/06/An-Ghaeilge-sa-Phobal.png
END:VEVENT
BEGIN:VEVENT
DTSTART;TZID=UTC:20260421T100000
DTEND;TZID=UTC:20260421T110000
DTSTAMP:20260422T112205
CREATED:20240918T112200Z
LAST-MODIFIED:20250321T172342Z
UID:10004670-1776765600-1776769200@cilldaralegaeilge.ie
SUMMARY:Ciorcal Comhrá i Leabharlann Phobal Ráth Iomgháin
DESCRIPTION:
URL:https://cilldaralegaeilge.ie/imeachtai/ciorcal-comhra-i-leabharlann-phobal-rath-iomghain/2026-04-21/
LOCATION:Leabharlann Phobal Ráth Iomgháin\, Canal Court\, Bóthar Chill Dara\, Ráth Iomgháin\, Co. Chill Dara\, R51 YX65\, Ireland
CATEGORIES:An Pobal Níos Leithne,Daoine a bhfuil suim acu sa Ghaeilge,Foghlaimeoirí — Nua-Ghaeilge,Pobal reatha na teanga
ATTACH;FMTTYPE=image/png:https://cilldaralegaeilge.ie/wp-content/uploads/2024/06/An-Ghaeilge-sa-Phobal.png
END:VEVENT
BEGIN:VEVENT
DTSTART;TZID=UTC:20260420T110000
DTEND;TZID=UTC:20260420T120000
DTSTAMP:20260422T112205
CREATED:20240611T143206Z
LAST-MODIFIED:20240815T094125Z
UID:10001595-1776682800-1776686400@cilldaralegaeilge.ie
SUMMARY:Ciorcal Comhrá le Leabharlann agus Ionad Cultúrtha An Náis
DESCRIPTION:Leabharlann agus Ionad Cultúrtha An Náis \nNaas Library and Cultural Centre \nDé Luain Monday: 11:00-12:00
URL:https://cilldaralegaeilge.ie/imeachtai/ciorcal-comhra-le-leabharlann-agus-ionad-culturtha-an-nais/2026-04-20/
LOCATION:Leabharlann agus Ionad Cultúrtha An Náis\, An Phríomhshráid Thuaidh\, Nás na Ríogh\, Co. Chill Dara\, W91 E1RT\, Ireland
ATTACH;FMTTYPE=image/png:https://cilldaralegaeilge.ie/wp-content/uploads/2024/06/An-Ghaeilge-sa-Phobal.png
END:VEVENT
BEGIN:VEVENT
DTSTART;TZID=UTC:20260417T120000
DTEND;TZID=UTC:20260417T130000
DTSTAMP:20260422T112205
CREATED:20240611T144102Z
LAST-MODIFIED:20250321T171639Z
UID:10001955-1776427200-1776430800@cilldaralegaeilge.ie
SUMMARY:Ciorcal Comhrá le Leabharlann Phobal Chill Droichid
DESCRIPTION:Leabharlann Phobal Chill Droichid \nCelbridge Community Library \n“Caint agus Cupán” Dé hAoine Friday: 12:00-13:00
URL:https://cilldaralegaeilge.ie/imeachtai/ciorcal-comhra-le-leabharlann-phobal-chill-droichid/2026-04-17/
LOCATION:Leabharlann Phobal Chill Droichid\, Páirc Phádraig\, Cill Droichid\, Co. Chill Dara\, W23 VA47\, Ireland
CATEGORIES:An Pobal Níos Leithne,Daoine a bhfuil suim acu sa Ghaeilge,Foghlaimeoirí — Nua-Ghaeilge,Pobal reatha na teanga
ATTACH;FMTTYPE=image/png:https://cilldaralegaeilge.ie/wp-content/uploads/2024/06/An-Ghaeilge-sa-Phobal.png
END:VEVENT
BEGIN:VEVENT
DTSTART;TZID=UTC:20260417T100000
DTEND;TZID=UTC:20260417T110000
DTSTAMP:20260422T112205
CREATED:20240611T144426Z
LAST-MODIFIED:20250321T171839Z
UID:10002075-1776420000-1776423600@cilldaralegaeilge.ie
SUMMARY:Ciorcal Comhrá le Leabharlann Phobal Dhroichead Nua
DESCRIPTION:Leabharlann Phobal Dhroichead Nua \nNewbridge Community Library \nDé hAoine Friday: 10:00-11:00
URL:https://cilldaralegaeilge.ie/imeachtai/ciorcal-comhra-le-leabharlann-phobal-dhroichead-nua/2026-04-17/
LOCATION:Leabharlann Phobal Dhroichead Nua\, Bóthar Áth Garbháin\, Droichead Nua\, Co. Chill Dara\, W12 W861\, Ireland
CATEGORIES:An Pobal Níos Leithne,Daoine a bhfuil suim acu sa Ghaeilge,Foghlaimeoirí — Nua-Ghaeilge,Pobal reatha na teanga
ATTACH;FMTTYPE=image/png:https://cilldaralegaeilge.ie/wp-content/uploads/2024/06/An-Ghaeilge-sa-Phobal.png
END:VEVENT
BEGIN:VEVENT
DTSTART;TZID=UTC:20260416T150000
DTEND;TZID=UTC:20260416T163000
DTSTAMP:20260422T112205
CREATED:20240611T143841Z
LAST-MODIFIED:20250321T171530Z
UID:10001835-1776351600-1776357000@cilldaralegaeilge.ie
SUMMARY:Ciorcal Comhrá le Leabharlann Phobal Chill Dara
DESCRIPTION:Leabharlann Phobal Chill Dara \nKildare Town Community Library \nDéardaoin Thursday: 15:00-16:00
URL:https://cilldaralegaeilge.ie/imeachtai/ciorcal-comhra-le-leabharlann-phobal-chill-dara/2026-04-16/
LOCATION:Leabharlann Phobal Chill Dara\, Baile Chill Dara\, Sráid Gheata An Chléir\, Co. Chill Dara\, R51 P403\, Ireland
CATEGORIES:An Pobal Níos Leithne,Daoine a bhfuil suim acu sa Ghaeilge,Foghlaimeoirí — Nua-Ghaeilge,Pobal reatha na teanga
ATTACH;FMTTYPE=image/png:https://cilldaralegaeilge.ie/wp-content/uploads/2024/06/An-Ghaeilge-sa-Phobal.png
END:VEVENT
BEGIN:VEVENT
DTSTART;TZID=UTC:20260416T110000
DTEND;TZID=UTC:20260416T120000
DTSTAMP:20260422T112205
CREATED:20250321T172049Z
LAST-MODIFIED:20250321T172054Z
UID:10004201-1776337200-1776340800@cilldaralegaeilge.ie
SUMMARY:Ciorcal Comhrá le Leabharlann Phobal Léim An Bhradáin
DESCRIPTION:Leabharlann Phobal Léim An Bhradáin \nLeixlip Community Library \nGach dara agus ceathrú Céadaoin 11.00-12.00
URL:https://cilldaralegaeilge.ie/imeachtai/ciorcal-comhra-le-leabharlann-phobal-leim-an-bhradain-2/2026-04-16/
LOCATION:Leabharlann Phobal Léim An Bhradáin\, Cnoc an Chaptaein\, Léim an Bhradáin\, Co. Chill Dara\, W23 WR96\, Ireland
CATEGORIES:An Pobal Níos Leithne,Daoine a bhfuil suim acu sa Ghaeilge,Foghlaimeoirí — Nua-Ghaeilge,Pobal reatha na teanga
ATTACH;FMTTYPE=image/png:https://cilldaralegaeilge.ie/wp-content/uploads/2024/06/An-Ghaeilge-sa-Phobal.png
END:VEVENT
BEGIN:VEVENT
DTSTART;TZID=UTC:20260415T103000
DTEND;TZID=UTC:20260415T113000
DTSTAMP:20260422T112205
CREATED:20240611T143504Z
LAST-MODIFIED:20250321T171329Z
UID:10001715-1776249000-1776252600@cilldaralegaeilge.ie
SUMMARY:Ciorcal Comhrá le Leabharlann Phobal Bhaile Átha Í
DESCRIPTION:Leabharlann Phobal Bhaile Átha Í \nAthy Community Library \nDé Céadaoin Wednesday 10:30-11.30
URL:https://cilldaralegaeilge.ie/imeachtai/ciorcal-comhra-le-leabharlann-phobal-bhaile-atha-i/2026-04-15/
LOCATION:Leabharlann Phobal Bhaile Átha Í\, Lána an Chlochair\, Baile Átha í\, Co. Chill Dara\, R14 DK33\, Ireland
CATEGORIES:An Pobal Níos Leithne,Daoine a bhfuil suim acu sa Ghaeilge,Foghlaimeoirí — Nua-Ghaeilge,Pobal reatha na teanga
ATTACH;FMTTYPE=image/png:https://cilldaralegaeilge.ie/wp-content/uploads/2024/06/An-Ghaeilge-sa-Phobal.png
END:VEVENT
BEGIN:VEVENT
DTSTART;TZID=UTC:20260414T110000
DTEND;TZID=UTC:20260414T120000
DTSTAMP:20260422T112205
CREATED:20240611T145026Z
LAST-MODIFIED:20250321T172212Z
UID:10002222-1776164400-1776168000@cilldaralegaeilge.ie
SUMMARY:Ciorcal Comhrá le Leabharlann Phobal Mhaigh Nuad
DESCRIPTION:Leabharlann Phobal Mhaigh Nuad \nMaynooth Community Library \nDé Máirt Tuesday: 11:00-12:00
URL:https://cilldaralegaeilge.ie/imeachtai/ciorcal-comhra-le-leabharlann-phobal-mhaigh-nuad/2026-04-14/
LOCATION:Leabharlann Phobal Mhaigh Nuad\, An tSráid Mhór\, Maigh Nuad\, Co. Chill Dara\, W23 ND79\, Ireland
CATEGORIES:An Pobal Níos Leithne,Daoine a bhfuil suim acu sa Ghaeilge,Foghlaimeoirí — Nua-Ghaeilge,Pobal reatha na teanga
ATTACH;FMTTYPE=image/png:https://cilldaralegaeilge.ie/wp-content/uploads/2024/06/An-Ghaeilge-sa-Phobal.png
END:VEVENT
BEGIN:VEVENT
DTSTART;TZID=UTC:20260414T100000
DTEND;TZID=UTC:20260414T110000
DTSTAMP:20260422T112205
CREATED:20240918T112200Z
LAST-MODIFIED:20250321T172342Z
UID:10004669-1776160800-1776164400@cilldaralegaeilge.ie
SUMMARY:Ciorcal Comhrá i Leabharlann Phobal Ráth Iomgháin
DESCRIPTION:
URL:https://cilldaralegaeilge.ie/imeachtai/ciorcal-comhra-i-leabharlann-phobal-rath-iomghain/2026-04-14/
LOCATION:Leabharlann Phobal Ráth Iomgháin\, Canal Court\, Bóthar Chill Dara\, Ráth Iomgháin\, Co. Chill Dara\, R51 YX65\, Ireland
CATEGORIES:An Pobal Níos Leithne,Daoine a bhfuil suim acu sa Ghaeilge,Foghlaimeoirí — Nua-Ghaeilge,Pobal reatha na teanga
ATTACH;FMTTYPE=image/png:https://cilldaralegaeilge.ie/wp-content/uploads/2024/06/An-Ghaeilge-sa-Phobal.png
END:VEVENT
BEGIN:VEVENT
DTSTART;TZID=UTC:20260413T110000
DTEND;TZID=UTC:20260413T120000
DTSTAMP:20260422T112205
CREATED:20240611T143206Z
LAST-MODIFIED:20240815T094125Z
UID:10001594-1776078000-1776081600@cilldaralegaeilge.ie
SUMMARY:Ciorcal Comhrá le Leabharlann agus Ionad Cultúrtha An Náis
DESCRIPTION:Leabharlann agus Ionad Cultúrtha An Náis \nNaas Library and Cultural Centre \nDé Luain Monday: 11:00-12:00
URL:https://cilldaralegaeilge.ie/imeachtai/ciorcal-comhra-le-leabharlann-agus-ionad-culturtha-an-nais/2026-04-13/
LOCATION:Leabharlann agus Ionad Cultúrtha An Náis\, An Phríomhshráid Thuaidh\, Nás na Ríogh\, Co. Chill Dara\, W91 E1RT\, Ireland
ATTACH;FMTTYPE=image/png:https://cilldaralegaeilge.ie/wp-content/uploads/2024/06/An-Ghaeilge-sa-Phobal.png
END:VEVENT
BEGIN:VEVENT
DTSTART;TZID=UTC:20260410T120000
DTEND;TZID=UTC:20260410T130000
DTSTAMP:20260422T112205
CREATED:20240611T144102Z
LAST-MODIFIED:20250321T171639Z
UID:10001954-1775822400-1775826000@cilldaralegaeilge.ie
SUMMARY:Ciorcal Comhrá le Leabharlann Phobal Chill Droichid
DESCRIPTION:Leabharlann Phobal Chill Droichid \nCelbridge Community Library \n“Caint agus Cupán” Dé hAoine Friday: 12:00-13:00
URL:https://cilldaralegaeilge.ie/imeachtai/ciorcal-comhra-le-leabharlann-phobal-chill-droichid/2026-04-10/
LOCATION:Leabharlann Phobal Chill Droichid\, Páirc Phádraig\, Cill Droichid\, Co. Chill Dara\, W23 VA47\, Ireland
CATEGORIES:An Pobal Níos Leithne,Daoine a bhfuil suim acu sa Ghaeilge,Foghlaimeoirí — Nua-Ghaeilge,Pobal reatha na teanga
ATTACH;FMTTYPE=image/png:https://cilldaralegaeilge.ie/wp-content/uploads/2024/06/An-Ghaeilge-sa-Phobal.png
END:VEVENT
BEGIN:VEVENT
DTSTART;TZID=UTC:20260409T110000
DTEND;TZID=UTC:20260409T120000
DTSTAMP:20260422T112205
CREATED:20250321T172049Z
LAST-MODIFIED:20250321T172054Z
UID:10004200-1775732400-1775736000@cilldaralegaeilge.ie
SUMMARY:Ciorcal Comhrá le Leabharlann Phobal Léim An Bhradáin
DESCRIPTION:Leabharlann Phobal Léim An Bhradáin \nLeixlip Community Library \nGach dara agus ceathrú Céadaoin 11.00-12.00
URL:https://cilldaralegaeilge.ie/imeachtai/ciorcal-comhra-le-leabharlann-phobal-leim-an-bhradain-2/2026-04-09/
LOCATION:Leabharlann Phobal Léim An Bhradáin\, Cnoc an Chaptaein\, Léim an Bhradáin\, Co. Chill Dara\, W23 WR96\, Ireland
CATEGORIES:An Pobal Níos Leithne,Daoine a bhfuil suim acu sa Ghaeilge,Foghlaimeoirí — Nua-Ghaeilge,Pobal reatha na teanga
ATTACH;FMTTYPE=image/png:https://cilldaralegaeilge.ie/wp-content/uploads/2024/06/An-Ghaeilge-sa-Phobal.png
END:VEVENT
BEGIN:VEVENT
DTSTART;TZID=UTC:20260408T103000
DTEND;TZID=UTC:20260408T113000
DTSTAMP:20260422T112205
CREATED:20240611T143504Z
LAST-MODIFIED:20250321T171329Z
UID:10001714-1775644200-1775647800@cilldaralegaeilge.ie
SUMMARY:Ciorcal Comhrá le Leabharlann Phobal Bhaile Átha Í
DESCRIPTION:Leabharlann Phobal Bhaile Átha Í \nAthy Community Library \nDé Céadaoin Wednesday 10:30-11.30
URL:https://cilldaralegaeilge.ie/imeachtai/ciorcal-comhra-le-leabharlann-phobal-bhaile-atha-i/2026-04-08/
LOCATION:Leabharlann Phobal Bhaile Átha Í\, Lána an Chlochair\, Baile Átha í\, Co. Chill Dara\, R14 DK33\, Ireland
CATEGORIES:An Pobal Níos Leithne,Daoine a bhfuil suim acu sa Ghaeilge,Foghlaimeoirí — Nua-Ghaeilge,Pobal reatha na teanga
ATTACH;FMTTYPE=image/png:https://cilldaralegaeilge.ie/wp-content/uploads/2024/06/An-Ghaeilge-sa-Phobal.png
END:VEVENT
BEGIN:VEVENT
DTSTART;TZID=UTC:20260407T110000
DTEND;TZID=UTC:20260407T120000
DTSTAMP:20260422T112205
CREATED:20240611T145026Z
LAST-MODIFIED:20250321T172212Z
UID:10002221-1775559600-1775563200@cilldaralegaeilge.ie
SUMMARY:Ciorcal Comhrá le Leabharlann Phobal Mhaigh Nuad
DESCRIPTION:Leabharlann Phobal Mhaigh Nuad \nMaynooth Community Library \nDé Máirt Tuesday: 11:00-12:00
URL:https://cilldaralegaeilge.ie/imeachtai/ciorcal-comhra-le-leabharlann-phobal-mhaigh-nuad/2026-04-07/
LOCATION:Leabharlann Phobal Mhaigh Nuad\, An tSráid Mhór\, Maigh Nuad\, Co. Chill Dara\, W23 ND79\, Ireland
CATEGORIES:An Pobal Níos Leithne,Daoine a bhfuil suim acu sa Ghaeilge,Foghlaimeoirí — Nua-Ghaeilge,Pobal reatha na teanga
ATTACH;FMTTYPE=image/png:https://cilldaralegaeilge.ie/wp-content/uploads/2024/06/An-Ghaeilge-sa-Phobal.png
END:VEVENT
BEGIN:VEVENT
DTSTART;TZID=UTC:20260407T100000
DTEND;TZID=UTC:20260407T110000
DTSTAMP:20260422T112205
CREATED:20240918T112200Z
LAST-MODIFIED:20250321T172342Z
UID:10004668-1775556000-1775559600@cilldaralegaeilge.ie
SUMMARY:Ciorcal Comhrá i Leabharlann Phobal Ráth Iomgháin
DESCRIPTION:
URL:https://cilldaralegaeilge.ie/imeachtai/ciorcal-comhra-i-leabharlann-phobal-rath-iomghain/2026-04-07/
LOCATION:Leabharlann Phobal Ráth Iomgháin\, Canal Court\, Bóthar Chill Dara\, Ráth Iomgháin\, Co. Chill Dara\, R51 YX65\, Ireland
CATEGORIES:An Pobal Níos Leithne,Daoine a bhfuil suim acu sa Ghaeilge,Foghlaimeoirí — Nua-Ghaeilge,Pobal reatha na teanga
ATTACH;FMTTYPE=image/png:https://cilldaralegaeilge.ie/wp-content/uploads/2024/06/An-Ghaeilge-sa-Phobal.png
END:VEVENT
BEGIN:VEVENT
DTSTART;TZID=UTC:20260406T110000
DTEND;TZID=UTC:20260406T120000
DTSTAMP:20260422T112205
CREATED:20240611T143206Z
LAST-MODIFIED:20240815T094125Z
UID:10001593-1775473200-1775476800@cilldaralegaeilge.ie
SUMMARY:Ciorcal Comhrá le Leabharlann agus Ionad Cultúrtha An Náis
DESCRIPTION:Leabharlann agus Ionad Cultúrtha An Náis \nNaas Library and Cultural Centre \nDé Luain Monday: 11:00-12:00
URL:https://cilldaralegaeilge.ie/imeachtai/ciorcal-comhra-le-leabharlann-agus-ionad-culturtha-an-nais/2026-04-06/
LOCATION:Leabharlann agus Ionad Cultúrtha An Náis\, An Phríomhshráid Thuaidh\, Nás na Ríogh\, Co. Chill Dara\, W91 E1RT\, Ireland
ATTACH;FMTTYPE=image/png:https://cilldaralegaeilge.ie/wp-content/uploads/2024/06/An-Ghaeilge-sa-Phobal.png
END:VEVENT
BEGIN:VEVENT
DTSTART;TZID=UTC:20260403T120000
DTEND;TZID=UTC:20260403T130000
DTSTAMP:20260422T112205
CREATED:20240611T144102Z
LAST-MODIFIED:20250321T171639Z
UID:10001953-1775217600-1775221200@cilldaralegaeilge.ie
SUMMARY:Ciorcal Comhrá le Leabharlann Phobal Chill Droichid
DESCRIPTION:Leabharlann Phobal Chill Droichid \nCelbridge Community Library \n“Caint agus Cupán” Dé hAoine Friday: 12:00-13:00
URL:https://cilldaralegaeilge.ie/imeachtai/ciorcal-comhra-le-leabharlann-phobal-chill-droichid/2026-04-03/
LOCATION:Leabharlann Phobal Chill Droichid\, Páirc Phádraig\, Cill Droichid\, Co. Chill Dara\, W23 VA47\, Ireland
CATEGORIES:An Pobal Níos Leithne,Daoine a bhfuil suim acu sa Ghaeilge,Foghlaimeoirí — Nua-Ghaeilge,Pobal reatha na teanga
ATTACH;FMTTYPE=image/png:https://cilldaralegaeilge.ie/wp-content/uploads/2024/06/An-Ghaeilge-sa-Phobal.png
END:VEVENT
BEGIN:VEVENT
DTSTART;TZID=UTC:20260403T100000
DTEND;TZID=UTC:20260403T110000
DTSTAMP:20260422T112205
CREATED:20240611T144426Z
LAST-MODIFIED:20250321T171839Z
UID:10002073-1775210400-1775214000@cilldaralegaeilge.ie
SUMMARY:Ciorcal Comhrá le Leabharlann Phobal Dhroichead Nua
DESCRIPTION:Leabharlann Phobal Dhroichead Nua \nNewbridge Community Library \nDé hAoine Friday: 10:00-11:00
URL:https://cilldaralegaeilge.ie/imeachtai/ciorcal-comhra-le-leabharlann-phobal-dhroichead-nua/2026-04-03/
LOCATION:Leabharlann Phobal Dhroichead Nua\, Bóthar Áth Garbháin\, Droichead Nua\, Co. Chill Dara\, W12 W861\, Ireland
CATEGORIES:An Pobal Níos Leithne,Daoine a bhfuil suim acu sa Ghaeilge,Foghlaimeoirí — Nua-Ghaeilge,Pobal reatha na teanga
ATTACH;FMTTYPE=image/png:https://cilldaralegaeilge.ie/wp-content/uploads/2024/06/An-Ghaeilge-sa-Phobal.png
END:VEVENT
BEGIN:VEVENT
DTSTART;TZID=UTC:20260402T150000
DTEND;TZID=UTC:20260402T163000
DTSTAMP:20260422T112205
CREATED:20240611T143841Z
LAST-MODIFIED:20250321T171530Z
UID:10001833-1775142000-1775147400@cilldaralegaeilge.ie
SUMMARY:Ciorcal Comhrá le Leabharlann Phobal Chill Dara
DESCRIPTION:Leabharlann Phobal Chill Dara \nKildare Town Community Library \nDéardaoin Thursday: 15:00-16:00
URL:https://cilldaralegaeilge.ie/imeachtai/ciorcal-comhra-le-leabharlann-phobal-chill-dara/2026-04-02/
LOCATION:Leabharlann Phobal Chill Dara\, Baile Chill Dara\, Sráid Gheata An Chléir\, Co. Chill Dara\, R51 P403\, Ireland
CATEGORIES:An Pobal Níos Leithne,Daoine a bhfuil suim acu sa Ghaeilge,Foghlaimeoirí — Nua-Ghaeilge,Pobal reatha na teanga
ATTACH;FMTTYPE=image/png:https://cilldaralegaeilge.ie/wp-content/uploads/2024/06/An-Ghaeilge-sa-Phobal.png
END:VEVENT
BEGIN:VEVENT
DTSTART;TZID=UTC:20260402T110000
DTEND;TZID=UTC:20260402T120000
DTSTAMP:20260422T112205
CREATED:20250321T172049Z
LAST-MODIFIED:20250321T172054Z
UID:10004199-1775127600-1775131200@cilldaralegaeilge.ie
SUMMARY:Ciorcal Comhrá le Leabharlann Phobal Léim An Bhradáin
DESCRIPTION:Leabharlann Phobal Léim An Bhradáin \nLeixlip Community Library \nGach dara agus ceathrú Céadaoin 11.00-12.00
URL:https://cilldaralegaeilge.ie/imeachtai/ciorcal-comhra-le-leabharlann-phobal-leim-an-bhradain-2/2026-04-02/
LOCATION:Leabharlann Phobal Léim An Bhradáin\, Cnoc an Chaptaein\, Léim an Bhradáin\, Co. Chill Dara\, W23 WR96\, Ireland
CATEGORIES:An Pobal Níos Leithne,Daoine a bhfuil suim acu sa Ghaeilge,Foghlaimeoirí — Nua-Ghaeilge,Pobal reatha na teanga
ATTACH;FMTTYPE=image/png:https://cilldaralegaeilge.ie/wp-content/uploads/2024/06/An-Ghaeilge-sa-Phobal.png
END:VEVENT
BEGIN:VEVENT
DTSTART;TZID=UTC:20260401T103000
DTEND;TZID=UTC:20260401T113000
DTSTAMP:20260422T112205
CREATED:20240611T143504Z
LAST-MODIFIED:20250321T171329Z
UID:10001713-1775039400-1775043000@cilldaralegaeilge.ie
SUMMARY:Ciorcal Comhrá le Leabharlann Phobal Bhaile Átha Í
DESCRIPTION:Leabharlann Phobal Bhaile Átha Í \nAthy Community Library \nDé Céadaoin Wednesday 10:30-11.30
URL:https://cilldaralegaeilge.ie/imeachtai/ciorcal-comhra-le-leabharlann-phobal-bhaile-atha-i/2026-04-01/
LOCATION:Leabharlann Phobal Bhaile Átha Í\, Lána an Chlochair\, Baile Átha í\, Co. Chill Dara\, R14 DK33\, Ireland
CATEGORIES:An Pobal Níos Leithne,Daoine a bhfuil suim acu sa Ghaeilge,Foghlaimeoirí — Nua-Ghaeilge,Pobal reatha na teanga
ATTACH;FMTTYPE=image/png:https://cilldaralegaeilge.ie/wp-content/uploads/2024/06/An-Ghaeilge-sa-Phobal.png
END:VEVENT
BEGIN:VEVENT
DTSTART;TZID=UTC:20260331T110000
DTEND;TZID=UTC:20260331T120000
DTSTAMP:20260422T112205
CREATED:20240611T145026Z
LAST-MODIFIED:20250321T172212Z
UID:10002220-1774954800-1774958400@cilldaralegaeilge.ie
SUMMARY:Ciorcal Comhrá le Leabharlann Phobal Mhaigh Nuad
DESCRIPTION:Leabharlann Phobal Mhaigh Nuad \nMaynooth Community Library \nDé Máirt Tuesday: 11:00-12:00
URL:https://cilldaralegaeilge.ie/imeachtai/ciorcal-comhra-le-leabharlann-phobal-mhaigh-nuad/2026-03-31/
LOCATION:Leabharlann Phobal Mhaigh Nuad\, An tSráid Mhór\, Maigh Nuad\, Co. Chill Dara\, W23 ND79\, Ireland
CATEGORIES:An Pobal Níos Leithne,Daoine a bhfuil suim acu sa Ghaeilge,Foghlaimeoirí — Nua-Ghaeilge,Pobal reatha na teanga
ATTACH;FMTTYPE=image/png:https://cilldaralegaeilge.ie/wp-content/uploads/2024/06/An-Ghaeilge-sa-Phobal.png
END:VEVENT
BEGIN:VEVENT
DTSTART;TZID=UTC:20260331T100000
DTEND;TZID=UTC:20260331T110000
DTSTAMP:20260422T112205
CREATED:20240918T112200Z
LAST-MODIFIED:20250321T172342Z
UID:10004667-1774951200-1774954800@cilldaralegaeilge.ie
SUMMARY:Ciorcal Comhrá i Leabharlann Phobal Ráth Iomgháin
DESCRIPTION:
URL:https://cilldaralegaeilge.ie/imeachtai/ciorcal-comhra-i-leabharlann-phobal-rath-iomghain/2026-03-31/
LOCATION:Leabharlann Phobal Ráth Iomgháin\, Canal Court\, Bóthar Chill Dara\, Ráth Iomgháin\, Co. Chill Dara\, R51 YX65\, Ireland
CATEGORIES:An Pobal Níos Leithne,Daoine a bhfuil suim acu sa Ghaeilge,Foghlaimeoirí — Nua-Ghaeilge,Pobal reatha na teanga
ATTACH;FMTTYPE=image/png:https://cilldaralegaeilge.ie/wp-content/uploads/2024/06/An-Ghaeilge-sa-Phobal.png
END:VEVENT
BEGIN:VEVENT
DTSTART;TZID=UTC:20260330T110000
DTEND;TZID=UTC:20260330T120000
DTSTAMP:20260422T112205
CREATED:20240611T143206Z
LAST-MODIFIED:20240815T094125Z
UID:10001592-1774868400-1774872000@cilldaralegaeilge.ie
SUMMARY:Ciorcal Comhrá le Leabharlann agus Ionad Cultúrtha An Náis
DESCRIPTION:Leabharlann agus Ionad Cultúrtha An Náis \nNaas Library and Cultural Centre \nDé Luain Monday: 11:00-12:00
URL:https://cilldaralegaeilge.ie/imeachtai/ciorcal-comhra-le-leabharlann-agus-ionad-culturtha-an-nais/2026-03-30/
LOCATION:Leabharlann agus Ionad Cultúrtha An Náis\, An Phríomhshráid Thuaidh\, Nás na Ríogh\, Co. Chill Dara\, W91 E1RT\, Ireland
ATTACH;FMTTYPE=image/png:https://cilldaralegaeilge.ie/wp-content/uploads/2024/06/An-Ghaeilge-sa-Phobal.png
END:VEVENT
BEGIN:VEVENT
DTSTART;TZID=UTC:20260327T120000
DTEND;TZID=UTC:20260327T130000
DTSTAMP:20260422T112205
CREATED:20240611T144102Z
LAST-MODIFIED:20250321T171639Z
UID:10001952-1774612800-1774616400@cilldaralegaeilge.ie
SUMMARY:Ciorcal Comhrá le Leabharlann Phobal Chill Droichid
DESCRIPTION:Leabharlann Phobal Chill Droichid \nCelbridge Community Library \n“Caint agus Cupán” Dé hAoine Friday: 12:00-13:00
URL:https://cilldaralegaeilge.ie/imeachtai/ciorcal-comhra-le-leabharlann-phobal-chill-droichid/2026-03-27/
LOCATION:Leabharlann Phobal Chill Droichid\, Páirc Phádraig\, Cill Droichid\, Co. Chill Dara\, W23 VA47\, Ireland
CATEGORIES:An Pobal Níos Leithne,Daoine a bhfuil suim acu sa Ghaeilge,Foghlaimeoirí — Nua-Ghaeilge,Pobal reatha na teanga
ATTACH;FMTTYPE=image/png:https://cilldaralegaeilge.ie/wp-content/uploads/2024/06/An-Ghaeilge-sa-Phobal.png
END:VEVENT
BEGIN:VEVENT
DTSTART;TZID=UTC:20260326T110000
DTEND;TZID=UTC:20260326T120000
DTSTAMP:20260422T112205
CREATED:20250321T172049Z
LAST-MODIFIED:20250321T172054Z
UID:10004198-1774522800-1774526400@cilldaralegaeilge.ie
SUMMARY:Ciorcal Comhrá le Leabharlann Phobal Léim An Bhradáin
DESCRIPTION:Leabharlann Phobal Léim An Bhradáin \nLeixlip Community Library \nGach dara agus ceathrú Céadaoin 11.00-12.00
URL:https://cilldaralegaeilge.ie/imeachtai/ciorcal-comhra-le-leabharlann-phobal-leim-an-bhradain-2/2026-03-26/
LOCATION:Leabharlann Phobal Léim An Bhradáin\, Cnoc an Chaptaein\, Léim an Bhradáin\, Co. Chill Dara\, W23 WR96\, Ireland
CATEGORIES:An Pobal Níos Leithne,Daoine a bhfuil suim acu sa Ghaeilge,Foghlaimeoirí — Nua-Ghaeilge,Pobal reatha na teanga
ATTACH;FMTTYPE=image/png:https://cilldaralegaeilge.ie/wp-content/uploads/2024/06/An-Ghaeilge-sa-Phobal.png
END:VEVENT
BEGIN:VEVENT
DTSTART;TZID=UTC:20260325T103000
DTEND;TZID=UTC:20260325T113000
DTSTAMP:20260422T112205
CREATED:20240611T143504Z
LAST-MODIFIED:20250321T171329Z
UID:10001712-1774434600-1774438200@cilldaralegaeilge.ie
SUMMARY:Ciorcal Comhrá le Leabharlann Phobal Bhaile Átha Í
DESCRIPTION:Leabharlann Phobal Bhaile Átha Í \nAthy Community Library \nDé Céadaoin Wednesday 10:30-11.30
URL:https://cilldaralegaeilge.ie/imeachtai/ciorcal-comhra-le-leabharlann-phobal-bhaile-atha-i/2026-03-25/
LOCATION:Leabharlann Phobal Bhaile Átha Í\, Lána an Chlochair\, Baile Átha í\, Co. Chill Dara\, R14 DK33\, Ireland
CATEGORIES:An Pobal Níos Leithne,Daoine a bhfuil suim acu sa Ghaeilge,Foghlaimeoirí — Nua-Ghaeilge,Pobal reatha na teanga
ATTACH;FMTTYPE=image/png:https://cilldaralegaeilge.ie/wp-content/uploads/2024/06/An-Ghaeilge-sa-Phobal.png
END:VEVENT
BEGIN:VEVENT
DTSTART;TZID=UTC:20260324T110000
DTEND;TZID=UTC:20260324T120000
DTSTAMP:20260422T112205
CREATED:20240611T145026Z
LAST-MODIFIED:20250321T172212Z
UID:10002219-1774350000-1774353600@cilldaralegaeilge.ie
SUMMARY:Ciorcal Comhrá le Leabharlann Phobal Mhaigh Nuad
DESCRIPTION:Leabharlann Phobal Mhaigh Nuad \nMaynooth Community Library \nDé Máirt Tuesday: 11:00-12:00
URL:https://cilldaralegaeilge.ie/imeachtai/ciorcal-comhra-le-leabharlann-phobal-mhaigh-nuad/2026-03-24/
LOCATION:Leabharlann Phobal Mhaigh Nuad\, An tSráid Mhór\, Maigh Nuad\, Co. Chill Dara\, W23 ND79\, Ireland
CATEGORIES:An Pobal Níos Leithne,Daoine a bhfuil suim acu sa Ghaeilge,Foghlaimeoirí — Nua-Ghaeilge,Pobal reatha na teanga
ATTACH;FMTTYPE=image/png:https://cilldaralegaeilge.ie/wp-content/uploads/2024/06/An-Ghaeilge-sa-Phobal.png
END:VEVENT
BEGIN:VEVENT
DTSTART;TZID=UTC:20260324T100000
DTEND;TZID=UTC:20260324T110000
DTSTAMP:20260422T112205
CREATED:20240918T112200Z
LAST-MODIFIED:20250321T172342Z
UID:10004666-1774346400-1774350000@cilldaralegaeilge.ie
SUMMARY:Ciorcal Comhrá i Leabharlann Phobal Ráth Iomgháin
DESCRIPTION:
URL:https://cilldaralegaeilge.ie/imeachtai/ciorcal-comhra-i-leabharlann-phobal-rath-iomghain/2026-03-24/
LOCATION:Leabharlann Phobal Ráth Iomgháin\, Canal Court\, Bóthar Chill Dara\, Ráth Iomgháin\, Co. Chill Dara\, R51 YX65\, Ireland
CATEGORIES:An Pobal Níos Leithne,Daoine a bhfuil suim acu sa Ghaeilge,Foghlaimeoirí — Nua-Ghaeilge,Pobal reatha na teanga
ATTACH;FMTTYPE=image/png:https://cilldaralegaeilge.ie/wp-content/uploads/2024/06/An-Ghaeilge-sa-Phobal.png
END:VEVENT
END:VCALENDAR