BEGIN:VCALENDAR
VERSION:2.0
PRODID:-//CILL DARA LE GAEILGE - ECPv6.15.16//NONSGML v1.0//EN
CALSCALE:GREGORIAN
METHOD:PUBLISH
X-ORIGINAL-URL:https://cilldaralegaeilge.ie
X-WR-CALDESC:Events for CILL DARA LE GAEILGE
REFRESH-INTERVAL;VALUE=DURATION:PT1H
X-Robots-Tag:noindex
X-PUBLISHED-TTL:PT1H
BEGIN:VTIMEZONE
TZID:UTC
BEGIN:STANDARD
TZOFFSETFROM:+0000
TZOFFSETTO:+0000
TZNAME:UTC
DTSTART:20240101T000000
END:STANDARD
END:VTIMEZONE
BEGIN:VEVENT
DTSTART;TZID=UTC:20250403T184500
DTEND;TZID=UTC:20250403T194500
DTSTAMP:20260422T073931
CREATED:20250326T122048Z
LAST-MODIFIED:20250331T105722Z
UID:10004877-1743705900-1743709500@cilldaralegaeilge.ie
SUMMARY:Ceardlanna Pleanála Teanga i gContae Chill Dara: Gaeilge Cois Bhearú
DESCRIPTION:
URL:https://cilldaralegaeilge.ie/imeachtai/ceardlanna-pleanala-teanga-i-gcontae-chill-dara-gaeilge-cois-bhearu/
LOCATION:Leabharlann Phobal Bhaile Átha Í\, Lána an Chlochair\, Baile Átha í\, Co. Chill Dara\, R14 DK33\, Ireland
CATEGORIES:An Pobal Níos Leithne,Daoine a bhfuil suim acu sa Ghaeilge,Pobal reatha na teanga
ATTACH;FMTTYPE=image/jpeg:https://cilldaralegaeilge.ie/wp-content/uploads/2025/03/Ceardlanna-Pleanala-Teanga-i-Co.-Chill-Dara-Baile-Atha-I-1.jpg
ORGANIZER;CN="Gaeilge Cois Bhear%C3%BA":MAILTO:gaeilgechoisbhearu@gmail.com
END:VEVENT
END:VCALENDAR